BEGIN:VCALENDAR
VERSION:2.0
PRODID:-//Hans-Wendt-Stiftung - ECPv6.15.20//NONSGML v1.0//EN
CALSCALE:GREGORIAN
METHOD:PUBLISH
X-WR-CALNAME:Hans-Wendt-Stiftung
X-ORIGINAL-URL:https://www.hans-wendt-stiftung.de
X-WR-CALDESC:Veranstaltungen für Hans-Wendt-Stiftung
REFRESH-INTERVAL;VALUE=DURATION:PT1H
X-Robots-Tag:noindex
X-PUBLISHED-TTL:PT1H
BEGIN:VTIMEZONE
TZID:Europe/Berlin
BEGIN:DAYLIGHT
TZOFFSETFROM:+0100
TZOFFSETTO:+0200
TZNAME:CEST
DTSTART:20250330T010000
END:DAYLIGHT
BEGIN:STANDARD
TZOFFSETFROM:+0200
TZOFFSETTO:+0100
TZNAME:CET
DTSTART:20251026T010000
END:STANDARD
BEGIN:DAYLIGHT
TZOFFSETFROM:+0100
TZOFFSETTO:+0200
TZNAME:CEST
DTSTART:20260329T010000
END:DAYLIGHT
BEGIN:STANDARD
TZOFFSETFROM:+0200
TZOFFSETTO:+0100
TZNAME:CET
DTSTART:20261025T010000
END:STANDARD
BEGIN:DAYLIGHT
TZOFFSETFROM:+0100
TZOFFSETTO:+0200
TZNAME:CEST
DTSTART:20270328T010000
END:DAYLIGHT
BEGIN:STANDARD
TZOFFSETFROM:+0200
TZOFFSETTO:+0100
TZNAME:CET
DTSTART:20271031T010000
END:STANDARD
END:VTIMEZONE
BEGIN:VEVENT
DTSTART;TZID=Europe/Berlin:20260518T083000
DTEND;TZID=Europe/Berlin:20260518T091500
DTSTAMP:20260425T132015
CREATED:20260424T133015Z
LAST-MODIFIED:20260424T183718Z
UID:10000016-1779093000-1779095700@www.hans-wendt-stiftung.de
SUMMARY:Fit in die Woche – Bewegungsangebot für Frauen
DESCRIPTION:Es geht um Spaß an der Bewegung! \nJeden Montag von 08:30 – 09:15 Uhr können Frauen zusammen mit einer Gesundheitsfachkraft verschiedene einfache\, kleine Bewegungsübungen machen und dabei auch Fragen zum Thema Gesundheit stellen. \nBitte Stoppersocken oder saubere Turnschuhe und etwas zu trinken mitbringen. \nKinder können mitgebracht werden. \nDas Angebot ist kostenlos. \nDas Projekt wird gefördert durch:\n– Den Senator für Kinder und Bildung\n– Amt für Soziale Dienste – Haus der Familie Huchting\n– Die LVG & AFS Niedersachsen
URL:https://www.hans-wendt-stiftung.de/veranstaltung/fit-in-die-woche-bewegungsangebot-fuer-frauen/2026-05-18/
LOCATION:QBZ Robinsbalje\, Robinsbalje 10-14\, Bremen\, 28259\, Germany
CATEGORIES:QBZs
ATTACH;FMTTYPE=image/png:https://www.hans-wendt-stiftung.de/wp-content/uploads/2025/02/QBZ-Robinsbalje_Fit-in-die-Woche_Abb.png
GEO:53.057009983823;8.7311053050405
X-APPLE-STRUCTURED-LOCATION;VALUE=URI;X-ADDRESS=QBZ Robinsbalje Robinsbalje 10-14 Bremen 28259 Germany;X-APPLE-RADIUS=500;X-TITLE=Robinsbalje 10-14:geo:8.7311053050405,53.057009983823
END:VEVENT
BEGIN:VEVENT
DTSTART;TZID=Europe/Berlin:20260519T153000
DTEND;TZID=Europe/Berlin:20260519T173000
DTSTAMP:20260425T132015
CREATED:20260424T140316Z
LAST-MODIFIED:20260424T201018Z
UID:10000040-1779204600-1779211800@www.hans-wendt-stiftung.de
SUMMARY:Farmforscher
DESCRIPTION:Angebot für Kinder von 6 – 12 Jahren\nLasst uns gemeinsam die Farm und die Natur erforschen! \nIn unserer festen Kindergruppe erforschen wir spielerisch die Zusammenhänge zwischen Menschen und Natur. Auf dem Farmgelände erleben die Kinder – im Alter von 6 bis 12 Jahren – Pflanzen und Tiere in ihrem natürlichen Lebensraum. Wir besuchen Farmtiere und beobachten Vögel und Insekten. Kreativ wird es beim Basteln und Bauen mit Naturmaterialien. Weitere spannende Aktivitäten wie Lagerfeuer\, Schnitzen und Waldbingo stehen ebenfalls auf dem Programm. Natürlich sind auch Spiele und eigene Ideen willkommen! \nWann:  => jeden Dienstag von 15:30 – 17:30 Uhr – für Kinder von 6 – 12 Jahren. \nAnmeldung unter: kinderundjugendfarm@hwst.de \nTeilnahme:              40 €/ Monat \nBei Fragen wende Dich gern an: kinderundjugendfarm@hwst.de.
URL:https://www.hans-wendt-stiftung.de/veranstaltung/farmforscher/2026-05-19/
LOCATION:Kinder- und Jugendfarm\, Am Lehester Deich 17-19\, Bremen
CATEGORIES:Kinder- und Jugendfarm
GEO:53.110033770357;8.9024666065062
X-APPLE-STRUCTURED-LOCATION;VALUE=URI;X-ADDRESS=Kinder- und Jugendfarm Am Lehester Deich 17-19 Bremen;X-APPLE-RADIUS=500;X-TITLE=Am Lehester Deich 17-19:geo:8.9024666065062,53.110033770357
END:VEVENT
END:VCALENDAR